BEGIN:VCALENDAR
VERSION:2.0
PRODID:-//HenCam - ECPv6.1.2.2//NONSGML v1.0//EN
CALSCALE:GREGORIAN
METHOD:PUBLISH
X-WR-CALNAME:HenCam
X-ORIGINAL-URL:https://hencam.com
X-WR-CALDESC:Events for HenCam
REFRESH-INTERVAL;VALUE=DURATION:PT1H
X-Robots-Tag:noindex
X-PUBLISHED-TTL:PT1H
BEGIN:VTIMEZONE
TZID:America/New_York
BEGIN:DAYLIGHT
TZOFFSETFROM:-0500
TZOFFSETTO:-0400
TZNAME:EDT
DTSTART:20120311T070000
END:DAYLIGHT
BEGIN:STANDARD
TZOFFSETFROM:-0400
TZOFFSETTO:-0500
TZNAME:EST
DTSTART:20121104T060000
END:STANDARD
END:VTIMEZONE
BEGIN:VEVENT
DTSTART;VALUE=DATE:20120503
DTEND;VALUE=DATE:20120504
DTSTAMP:20260419T144448
CREATED:20120518T185836Z
LAST-MODIFIED:20120518T190343Z
UID:5370-1336003200-1336089599@hencam.com
SUMMARY:A Visit to Our Lady's Academy
DESCRIPTION:I’ll be doing my Tillie Lays an Egg program for the pre-K. With Agatha!
URL:https://hencam.com/event-from-event-calendar/a-visit-to-our-ladys-academy/
LOCATION:Unnamed Venue\, Waltham\, MA\, Select a Country:
END:VEVENT
BEGIN:VEVENT
DTSTART;TZID=America/New_York:20120516T190000
DTEND;TZID=America/New_York:20120516T190059
DTSTAMP:20260419T144448
CREATED:20120518T032705Z
LAST-MODIFIED:20120518T190343Z
UID:5187-1337194800-1337194859@hencam.com
SUMMARY:Chicken Keeping Talk at the Farmers' Museum
DESCRIPTION:I’ll be in Cooperstown\, NY at this living history museum to talk about backyard chicken keeping.
URL:https://hencam.com/event-from-event-calendar/chicken-keeping-talk-at-the-farmers-museum/
LOCATION:The Farmers’ Museum\, Cooperstown\, NY\, Select a Country:
END:VEVENT
BEGIN:VEVENT
DTSTART;VALUE=DATE:20120523
DTEND;VALUE=DATE:20120524
DTSTAMP:20260419T144448
CREATED:20120518T033631Z
LAST-MODIFIED:20120518T190343Z
UID:5191-1337731200-1337817599@hencam.com
SUMMARY:A Visit to the Peter Noyes School
DESCRIPTION:I’ll be doing my Tillie Lays an Egg program for 4 Kindergarten classes. With Agatha!
URL:https://hencam.com/event-from-event-calendar/a-visit-to-the-peter-noyes-school/
LOCATION:Peter Noyes Elementary School\, Sudbury\, MA\, Select a Country:
END:VEVENT
BEGIN:VEVENT
DTSTART;VALUE=DATE:20120601
DTEND;VALUE=DATE:20120603
DTSTAMP:20260419T144448
CREATED:20120529T162243Z
LAST-MODIFIED:20120529T162418Z
UID:5769-1338508800-1338681599@hencam.com
SUMMARY:Concord Museum Garden Tour
DESCRIPTION:Eight gardens are on this tour\, including mine! This is your chance to tour my yard\, see the chickens\, goats and vegetable garden\, and even spy the Beast. All for a very good cause.
URL:https://hencam.com/event-from-event-calendar/concord-museum-garden-tour/
LOCATION:Concord Museum\, MA\, United States
END:VEVENT
END:VCALENDAR