BEGIN:VCALENDAR
VERSION:2.0
PRODID:-//HenCam - ECPv6.1.2.2//NONSGML v1.0//EN
CALSCALE:GREGORIAN
METHOD:PUBLISH
X-ORIGINAL-URL:https://hencam.com
X-WR-CALDESC:Events for HenCam
REFRESH-INTERVAL;VALUE=DURATION:PT1H
X-Robots-Tag:noindex
X-PUBLISHED-TTL:PT1H
BEGIN:VTIMEZONE
TZID:America/New_York
BEGIN:DAYLIGHT
TZOFFSETFROM:-0500
TZOFFSETTO:-0400
TZNAME:EDT
DTSTART:20120311T070000
END:DAYLIGHT
BEGIN:STANDARD
TZOFFSETFROM:-0400
TZOFFSETTO:-0500
TZNAME:EST
DTSTART:20121104T060000
END:STANDARD
END:VTIMEZONE
BEGIN:VEVENT
DTSTART;VALUE=DATE:20120411
DTEND;VALUE=DATE:20120412
DTSTAMP:20260419T173519
CREATED:20120518T185259Z
LAST-MODIFIED:20120518T190343Z
UID:5360-1334102400-1334188799@hencam.com
SUMMARY:Abbey Kelley Foster Charter School
DESCRIPTION:I’ll be meeting all of the first graders at this school in Worcester\, MA.
URL:https://hencam.com/event-from-event-calendar/abbey-kelley-foster-charter-school/
LOCATION:MA
END:VEVENT
BEGIN:VEVENT
DTSTART;VALUE=DATE:20120412
DTEND;VALUE=DATE:20120413
DTSTAMP:20260419T173519
CREATED:20120518T185342Z
LAST-MODIFIED:20120518T190343Z
UID:5361-1334188800-1334275199@hencam.com
SUMMARY:Skype Visit to the Grand Prairie School in Texas
DESCRIPTION:I’ll be taking the students on a tour of the barns via Skype and my iPad!
URL:https://hencam.com/event-from-event-calendar/skype-visit-to-the-grand-prairie-school-in-texas/
LOCATION:MA
END:VEVENT
BEGIN:VEVENT
DTSTART;TZID=America/New_York:20120414T130000
DTEND;TZID=America/New_York:20120414T150059
DTSTAMP:20260419T173519
CREATED:20120518T185441Z
LAST-MODIFIED:20120518T190343Z
UID:5362-1334408400-1334415659@hencam.com
SUMMARY:Chicken Keeping Workshop here in my backyard!
DESCRIPTION:You’ll get a tour of the coops and see first-hand how to keep a healthy\, peaceful flock of hens in your backyard. Homemade cookies included. $25. Tor register\, email me.
URL:https://hencam.com/event-from-event-calendar/chicken-keeping-workshop-here-in-my-backyard-4/
LOCATION:Unnamed Venue\, Carlisle\, MA\, Select a Country:
END:VEVENT
BEGIN:VEVENT
DTSTART;TZID=America/New_York:20120417T140000
DTEND;TZID=America/New_York:20120417T140059
DTSTAMP:20260419T173519
CREATED:20120518T185612Z
LAST-MODIFIED:20120518T190343Z
UID:5364-1334671200-1334671259@hencam.com
SUMMARY:Sargent Memorial Library
DESCRIPTION:Storytime during school vacation week! Come and say hello to me and one of my hens.
URL:https://hencam.com/event-from-event-calendar/sargent-memorial-library/
LOCATION:Sargent Memorial Library\, Boxborough\, MA\, Select a Country:
END:VEVENT
BEGIN:VEVENT
DTSTART;TZID=America/New_York:20120424T183000
DTEND;TZID=America/New_York:20120424T183059
DTSTAMP:20260419T173519
CREATED:20120518T185758Z
LAST-MODIFIED:20120518T190343Z
UID:5367-1335292200-1335292259@hencam.com
SUMMARY:Chicken Keeping Talk
DESCRIPTION:Free and open to the public! I’ll be speaking about getting started with your backyard flock.
URL:https://hencam.com/event-from-event-calendar/chicken-keeping-talk-2/
LOCATION:Billerica Public Library\, Billerica\, MA\, Select a Country:
END:VEVENT
END:VCALENDAR