BEGIN:VCALENDAR
VERSION:2.0
PRODID:-//HenCam - ECPv6.1.2.2//NONSGML v1.0//EN
CALSCALE:GREGORIAN
METHOD:PUBLISH
X-WR-CALNAME:HenCam
X-ORIGINAL-URL:https://hencam.com
X-WR-CALDESC:Events for HenCam
REFRESH-INTERVAL;VALUE=DURATION:PT1H
X-Robots-Tag:noindex
X-PUBLISHED-TTL:PT1H
BEGIN:VTIMEZONE
TZID:America/New_York
BEGIN:DAYLIGHT
TZOFFSETFROM:-0500
TZOFFSETTO:-0400
TZNAME:EDT
DTSTART:20110313T070000
END:DAYLIGHT
BEGIN:STANDARD
TZOFFSETFROM:-0400
TZOFFSETTO:-0500
TZNAME:EST
DTSTART:20111106T060000
END:STANDARD
END:VTIMEZONE
BEGIN:VEVENT
DTSTART;VALUE=DATE:20110503
DTEND;VALUE=DATE:20110504
DTSTAMP:20260425T093705
CREATED:20120518T182743Z
LAST-MODIFIED:20120518T190344Z
UID:5334-1304380800-1304467199@hencam.com
SUMMARY:Peter Noyes Elementary School
DESCRIPTION:Tillie and I will be in Sudbury\, MA\, meeting the kindergarten students!
URL:https://hencam.com/event-from-event-calendar/peter-noyes-elementary-school/
LOCATION:MA
END:VEVENT
BEGIN:VEVENT
DTSTART;VALUE=DATE:20110504
DTEND;VALUE=DATE:20110505
DTSTAMP:20260425T093705
CREATED:20120518T182843Z
LAST-MODIFIED:20120518T190344Z
UID:5335-1304467200-1304553599@hencam.com
SUMMARY:St. Mary School
DESCRIPTION:I’ll be meeting the pre-K through third grade classes.
URL:https://hencam.com/event-from-event-calendar/st-mary-school/
LOCATION:Unnamed Venue\, Shrewsbury\, MA\, Select a Country:
END:VEVENT
BEGIN:VEVENT
DTSTART;VALUE=DATE:20110523
DTEND;VALUE=DATE:20110525
DTSTAMP:20260425T093705
CREATED:20120519T154226Z
LAST-MODIFIED:20120519T154226Z
UID:5417-1306108800-1306281599@hencam.com
SUMMARY:Preschool Programs in Westford
DESCRIPTION:Tillie and I will be visiting the preschool children.
URL:https://hencam.com/event-from-event-calendar/preschool-programs-in-westford/
LOCATION:Unnamed Venue\, Westford\, MA\, Select a Country:
END:VEVENT
END:VCALENDAR