BEGIN:VCALENDAR
VERSION:2.0
PRODID:-//HenCam - ECPv6.1.2.2//NONSGML v1.0//EN
CALSCALE:GREGORIAN
METHOD:PUBLISH
X-ORIGINAL-URL:https://hencam.com
X-WR-CALDESC:Events for HenCam
REFRESH-INTERVAL;VALUE=DURATION:PT1H
X-Robots-Tag:noindex
X-PUBLISHED-TTL:PT1H
BEGIN:VTIMEZONE
TZID:America/New_York
BEGIN:DAYLIGHT
TZOFFSETFROM:-0500
TZOFFSETTO:-0400
TZNAME:EDT
DTSTART:20160313T070000
END:DAYLIGHT
BEGIN:STANDARD
TZOFFSETFROM:-0400
TZOFFSETTO:-0500
TZNAME:EST
DTSTART:20161106T060000
END:STANDARD
END:VTIMEZONE
BEGIN:VEVENT
DTSTART;TZID=America/New_York:20160402T113000
DTEND;TZID=America/New_York:20160402T123000
DTSTAMP:20260421T214823
CREATED:20151211T200725Z
LAST-MODIFIED:20160303T141001Z
UID:16110-1459596600-1459600200@hencam.com
SUMMARY:Chickens in the Garden
DESCRIPTION:A lecture at Old Sturbridge Village as part of their Garden Symposium Weekend. Follow the link for more details and how to register!
URL:https://hencam.com/event-from-event-calendar/chickens-in-the-garden/
LOCATION:Old Sturbridge Village\, 1 Old Sturbridge Village Road\, Sturbridge\, MA\, 01566\, United States
ORGANIZER;CN="Terry%20Golson":MAILTO:terry@terrygolson.com
END:VEVENT
END:VCALENDAR