BEGIN:VCALENDAR
VERSION:2.0
PRODID:-//HenCam - ECPv6.1.2.2//NONSGML v1.0//EN
CALSCALE:GREGORIAN
METHOD:PUBLISH
X-ORIGINAL-URL:https://hencam.com
X-WR-CALDESC:Events for HenCam
REFRESH-INTERVAL;VALUE=DURATION:PT1H
X-Robots-Tag:noindex
X-PUBLISHED-TTL:PT1H
BEGIN:VTIMEZONE
TZID:America/New_York
BEGIN:DAYLIGHT
TZOFFSETFROM:-0500
TZOFFSETTO:-0400
TZNAME:EDT
DTSTART:20160313T070000
END:DAYLIGHT
BEGIN:STANDARD
TZOFFSETFROM:-0400
TZOFFSETTO:-0500
TZNAME:EST
DTSTART:20161106T060000
END:STANDARD
END:VTIMEZONE
BEGIN:VEVENT
DTSTART;TZID=America/New_York:20160309T184500
DTEND;TZID=America/New_York:20160309T200000
DTSTAMP:20260420T214226
CREATED:20150526T124141Z
LAST-MODIFIED:20150624T131156Z
UID:14962-1457549100-1457553600@hencam.com
SUMMARY:Pepperell Garden Club
DESCRIPTION:I’ll be talking about how to integrate chickens (and goats!) into a beautiful and productive landscape.
URL:https://hencam.com/event-from-event-calendar/pepperell-garden-club/
LOCATION:Pepperell Senior Center\,  37 Nashua Road\, Pepperell\, MA\, United States
END:VEVENT
END:VCALENDAR