BEGIN:VCALENDAR
VERSION:2.0
PRODID:-//HenCam - ECPv6.1.2.2//NONSGML v1.0//EN
CALSCALE:GREGORIAN
METHOD:PUBLISH
X-WR-CALNAME:HenCam
X-ORIGINAL-URL:https://hencam.com
X-WR-CALDESC:Events for HenCam
REFRESH-INTERVAL;VALUE=DURATION:PT1H
X-Robots-Tag:noindex
X-PUBLISHED-TTL:PT1H
BEGIN:VTIMEZONE
TZID:America/New_York
BEGIN:DAYLIGHT
TZOFFSETFROM:-0500
TZOFFSETTO:-0400
TZNAME:EDT
DTSTART:20160313T070000
END:DAYLIGHT
BEGIN:STANDARD
TZOFFSETFROM:-0400
TZOFFSETTO:-0500
TZNAME:EST
DTSTART:20161106T060000
END:STANDARD
END:VTIMEZONE
BEGIN:VEVENT
DTSTART;TZID=America/New_York:20160107T160000
DTEND;TZID=America/New_York:20160107T170000
DTSTAMP:20260420T004124
CREATED:20151211T195330Z
LAST-MODIFIED:20151211T200337Z
UID:16107-1452182400-1452186000@hencam.com
SUMMARY:Chicken Chatting with Kids Cooking Green
DESCRIPTION:Want to pet a real hen and hear a good story? Families are invited to a special Chicken Storytime at Community Nursery School in Lexington where kids can pet a real hen! Come spend an hour with author Terry Golson and one of her hens. Terry will read from her book Tillie Lays an Egg\, then then talk with kids about all their newly hatched questions about chickens! Each child will receive a signed copy of Tillie Lays an Egg. Cost is $30 for a family of 3\, $5 more for an additional guest\, and all of the proceeds go to support Kids Cooking Green’s Fund for City Schools\, which brings cooking and nutrition classes to communities that otherwise could not afford them. Click here to register. \nFind out more about Kids Cooking Green at www.kidscookinggreen.com.
URL:https://hencam.com/event-from-event-calendar/chicken-chatting-with-kids-cooking-green/
LOCATION:Community Nursery School\, 2325 Massachusetts Ave\, Lexington\, MA\, 02421\, United States
CATEGORIES:Featured
ORGANIZER;CN="Terry%20Golson":MAILTO:terry@terrygolson.com
END:VEVENT
END:VCALENDAR