BEGIN:VCALENDAR
VERSION:2.0
PRODID:-//HenCam - ECPv6.1.2.2//NONSGML v1.0//EN
CALSCALE:GREGORIAN
METHOD:PUBLISH
X-WR-CALNAME:HenCam
X-ORIGINAL-URL:https://hencam.com
X-WR-CALDESC:Events for HenCam
REFRESH-INTERVAL;VALUE=DURATION:PT1H
X-Robots-Tag:noindex
X-PUBLISHED-TTL:PT1H
BEGIN:VTIMEZONE
TZID:America/New_York
BEGIN:DAYLIGHT
TZOFFSETFROM:-0500
TZOFFSETTO:-0400
TZNAME:EDT
DTSTART:20140309T070000
END:DAYLIGHT
BEGIN:STANDARD
TZOFFSETFROM:-0400
TZOFFSETTO:-0500
TZNAME:EST
DTSTART:20141102T060000
END:STANDARD
END:VTIMEZONE
BEGIN:VEVENT
DTSTART;TZID=America/New_York:20140408T190000
DTEND;TZID=America/New_York:20140408T200000
DTSTAMP:20260419T103735
CREATED:20140226T160956Z
LAST-MODIFIED:20140226T160956Z
UID:12057-1396983600-1396987200@hencam.com
SUMMARY:Talk and Book Signing
DESCRIPTION:I’ll be at one of my favorite indie bookstores\, Porter Square Books\, to do a talk and book signing.
URL:https://hencam.com/event-from-event-calendar/talk-and-book-signing-2/
LOCATION:Porter Square Books\, Cambridge\, MA\, Select a Country:
CATEGORIES:Featured
END:VEVENT
END:VCALENDAR