BEGIN:VCALENDAR
VERSION:2.0
PRODID:-//HenCam - ECPv6.1.2.2//NONSGML v1.0//EN
CALSCALE:GREGORIAN
METHOD:PUBLISH
X-WR-CALNAME:HenCam
X-ORIGINAL-URL:https://hencam.com
X-WR-CALDESC:Events for HenCam
REFRESH-INTERVAL;VALUE=DURATION:PT1H
X-Robots-Tag:noindex
X-PUBLISHED-TTL:PT1H
BEGIN:VTIMEZONE
TZID:America/New_York
BEGIN:DAYLIGHT
TZOFFSETFROM:-0500
TZOFFSETTO:-0400
TZNAME:EDT
DTSTART:20130310T070000
END:DAYLIGHT
BEGIN:STANDARD
TZOFFSETFROM:-0400
TZOFFSETTO:-0500
TZNAME:EST
DTSTART:20131103T060000
END:STANDARD
END:VTIMEZONE
BEGIN:VEVENT
DTSTART;TZID=America/New_York:20130424T190000
DTEND;TZID=America/New_York:20130424T203000
DTSTAMP:20260420T031143
CREATED:20130205T145019Z
LAST-MODIFIED:20130401T002601Z
UID:8255-1366830000-1366835400@hencam.com
SUMMARY:Spring Chickens: Basics of Urban Chicken Keeping
DESCRIPTION:I’ll be in Somerville\, MA\, to talk about urban chicken keeping. During this slide show/lecture I’ll cover everything you’ll need to know to get started with a small flock of hens in a city setting.
URL:https://hencam.com/event-from-event-calendar/chicken-keeping-talk-4/
LOCATION:Groundwork Somerville\, 24 Park Street\, Somerville\, 02143\, United States
CATEGORIES:Featured
ORGANIZER;CN="NOFA-Boston":MAILTO:drew@nofamass.org
END:VEVENT
END:VCALENDAR