BEGIN:VCALENDAR
VERSION:2.0
PRODID:-//HenCam - ECPv6.1.2.2//NONSGML v1.0//EN
CALSCALE:GREGORIAN
METHOD:PUBLISH
X-ORIGINAL-URL:https://hencam.com
X-WR-CALDESC:Events for HenCam
REFRESH-INTERVAL;VALUE=DURATION:PT1H
X-Robots-Tag:noindex
X-PUBLISHED-TTL:PT1H
BEGIN:VTIMEZONE
TZID:America/New_York
BEGIN:DAYLIGHT
TZOFFSETFROM:-0500
TZOFFSETTO:-0400
TZNAME:EDT
DTSTART:20110313T070000
END:DAYLIGHT
BEGIN:STANDARD
TZOFFSETFROM:-0400
TZOFFSETTO:-0500
TZNAME:EST
DTSTART:20111106T060000
END:STANDARD
END:VTIMEZONE
BEGIN:VEVENT
DTSTART;TZID=America/New_York:20111008T110000
DTEND;TZID=America/New_York:20111008T110059
DTSTAMP:20260423T014030
CREATED:20120518T184434Z
LAST-MODIFIED:20120518T190343Z
UID:5347-1318071600-1318071659@hencam.com
SUMMARY:Getting Your Coop Ready for Winter Workshop at the Chelmsford Agway
DESCRIPTION:I’ll be talking about how to keep your chickens healthy this winter. I’ll discuss housing\, feed and water. There will be time for Q & A\, too!
URL:https://hencam.com/event-from-event-calendar/getting-your-coop-ready-for-winter-workshop-at-the-chelmsford-agway/
LOCATION:Chelmsford Agway\, Chelmsford\, MA\, Select a Country:
END:VEVENT
END:VCALENDAR