BEGIN:VCALENDAR
VERSION:2.0
PRODID:-//HenCam - ECPv6.1.2.2//NONSGML v1.0//EN
CALSCALE:GREGORIAN
METHOD:PUBLISH
X-WR-CALNAME:HenCam
X-ORIGINAL-URL:https://hencam.com
X-WR-CALDESC:Events for HenCam
REFRESH-INTERVAL;VALUE=DURATION:PT1H
X-Robots-Tag:noindex
X-PUBLISHED-TTL:PT1H
BEGIN:VTIMEZONE
TZID:America/New_York
BEGIN:DAYLIGHT
TZOFFSETFROM:-0500
TZOFFSETTO:-0400
TZNAME:EDT
DTSTART:20110313T070000
END:DAYLIGHT
BEGIN:STANDARD
TZOFFSETFROM:-0400
TZOFFSETTO:-0500
TZNAME:EST
DTSTART:20111106T060000
END:STANDARD
END:VTIMEZONE
BEGIN:VEVENT
DTSTART;TZID=America/New_York:20110629T103000
DTEND;TZID=America/New_York:20110629T103059
DTSTAMP:20260425T081124
CREATED:20120518T183910Z
LAST-MODIFIED:20120518T190344Z
UID:5337-1309343400-1309343459@hencam.com
SUMMARY:Storytime at the Elephant's Trunk Bookshop!
DESCRIPTION:Tillie and I will be visiting this childrens’ bookshop at 10:30 am. I’ll read Tillie Lays an Egg\, and then everyone can pet Tillie!
URL:https://hencam.com/event-from-event-calendar/storytime-at-the-elephants-trunk-bookshop/
LOCATION:Elephant’s Trunk Bookshop\, Lexington\, MA\, Select a Country:
END:VEVENT
END:VCALENDAR