BEGIN:VCALENDAR
VERSION:2.0
PRODID:-//HenCam - ECPv6.1.2.2//NONSGML v1.0//EN
CALSCALE:GREGORIAN
METHOD:PUBLISH
X-ORIGINAL-URL:https://hencam.com
X-WR-CALDESC:Events for HenCam
REFRESH-INTERVAL;VALUE=DURATION:PT1H
X-Robots-Tag:noindex
X-PUBLISHED-TTL:PT1H
BEGIN:VTIMEZONE
TZID:America/New_York
BEGIN:DAYLIGHT
TZOFFSETFROM:-0500
TZOFFSETTO:-0400
TZNAME:EDT
DTSTART:20110313T070000
END:DAYLIGHT
BEGIN:STANDARD
TZOFFSETFROM:-0400
TZOFFSETTO:-0500
TZNAME:EST
DTSTART:20111106T060000
END:STANDARD
END:VTIMEZONE
BEGIN:VEVENT
DTSTART;VALUE=DATE:20110404
DTEND;VALUE=DATE:20110406
DTSTAMP:20260425T143549
CREATED:20120518T182238Z
LAST-MODIFIED:20120518T190344Z
UID:5326-1301875200-1302047999@hencam.com
SUMMARY:Central Cooperative Preschool
DESCRIPTION:Storytime with Tillie in Chelmsford\, MA!
URL:https://hencam.com/event-from-event-calendar/central-cooperative-preschool/
LOCATION:MA
END:VEVENT
END:VCALENDAR