BEGIN:VCALENDAR
VERSION:2.0
PRODID:-//HenCam - ECPv6.1.2.2//NONSGML v1.0//EN
CALSCALE:GREGORIAN
METHOD:PUBLISH
X-WR-CALNAME:HenCam
X-ORIGINAL-URL:https://hencam.com
X-WR-CALDESC:Events for HenCam
REFRESH-INTERVAL;VALUE=DURATION:PT1H
X-Robots-Tag:noindex
X-PUBLISHED-TTL:PT1H
BEGIN:VTIMEZONE
TZID:America/New_York
BEGIN:DAYLIGHT
TZOFFSETFROM:-0500
TZOFFSETTO:-0400
TZNAME:EDT
DTSTART:20110313T070000
END:DAYLIGHT
BEGIN:STANDARD
TZOFFSETFROM:-0400
TZOFFSETTO:-0500
TZNAME:EST
DTSTART:20111106T060000
END:STANDARD
END:VTIMEZONE
BEGIN:VEVENT
DTSTART;TZID=America/New_York:20110402T113000
DTEND;TZID=America/New_York:20110402T121559
DTSTAMP:20260425T143624
CREATED:20120518T182130Z
LAST-MODIFIED:20120518T190344Z
UID:5323-1301743800-1301746559@hencam.com
SUMMARY:Chicken Keeping Talk at the Westford Green Fair
DESCRIPTION:I’ll be sharing what I know about getting started with backyard chickens during this 45-minute slide show and lecture. The fair runs 10 am to 2 pm.
URL:https://hencam.com/event-from-event-calendar/chicken-keeping-talk-at-the-westford-green-fair/
LOCATION:Westford Green Fair\, Westford\, MA\, United States
END:VEVENT
END:VCALENDAR